BEGIN:VCALENDAR
VERSION:2.0
PRODID:-//Scottyartz - ECPv6.15.20//NONSGML v1.0//EN
CALSCALE:GREGORIAN
METHOD:PUBLISH
X-WR-CALNAME:Scottyartz
X-ORIGINAL-URL:https://scottyartz.com
X-WR-CALDESC:Events for Scottyartz
REFRESH-INTERVAL;VALUE=DURATION:PT1H
X-Robots-Tag:noindex
X-PUBLISHED-TTL:PT1H
BEGIN:VTIMEZONE
TZID:America/Chicago
BEGIN:DAYLIGHT
TZOFFSETFROM:-0600
TZOFFSETTO:-0500
TZNAME:CDT
DTSTART:20230312T080000
END:DAYLIGHT
BEGIN:STANDARD
TZOFFSETFROM:-0500
TZOFFSETTO:-0600
TZNAME:CST
DTSTART:20231105T070000
END:STANDARD
BEGIN:DAYLIGHT
TZOFFSETFROM:-0600
TZOFFSETTO:-0500
TZNAME:CDT
DTSTART:20240310T080000
END:DAYLIGHT
BEGIN:STANDARD
TZOFFSETFROM:-0500
TZOFFSETTO:-0600
TZNAME:CST
DTSTART:20241103T070000
END:STANDARD
BEGIN:DAYLIGHT
TZOFFSETFROM:-0600
TZOFFSETTO:-0500
TZNAME:CDT
DTSTART:20250309T080000
END:DAYLIGHT
BEGIN:STANDARD
TZOFFSETFROM:-0500
TZOFFSETTO:-0600
TZNAME:CST
DTSTART:20251102T070000
END:STANDARD
BEGIN:DAYLIGHT
TZOFFSETFROM:-0600
TZOFFSETTO:-0500
TZNAME:CDT
DTSTART:20260308T080000
END:DAYLIGHT
BEGIN:STANDARD
TZOFFSETFROM:-0500
TZOFFSETTO:-0600
TZNAME:CST
DTSTART:20261101T070000
END:STANDARD
END:VTIMEZONE
BEGIN:VEVENT
DTSTART;VALUE=DATE:20250516
DTEND;VALUE=DATE:20250519
DTSTAMP:20260424T105233
CREATED:20241130T185033Z
LAST-MODIFIED:20241130T185042Z
UID:5422-1747353600-1747612799@scottyartz.com
SUMMARY:Acen 2025
DESCRIPTION:One of the largest anime conventions in the Midwest\, held annually in Rosemont\, Illinois\, near Chicago. It celebrates Japanese pop culture\, including anime\, manga\, video games\, and cosplay\, along with panels\, workshops\, and special guest appearances from industry creators and voice actors. Attendees can enjoy a bustling vendor hall\, artist alley\, late-night events\, and unique experiences like concerts and dances. It’s a hub for fans to connect\, share their passion\, and immerse themselves in the vibrant anime community.
URL:https://scottyartz.com/event/acen-2024/
LOCATION:HYATT REGENCY O’HARE & DONALD E STEPHENS CONVENTION CENTER\, Rosemont\, IL\, United States
ATTACH;FMTTYPE=image/jpeg:https://scottyartz.com/wp-content/uploads/2024/11/ACential_Podcast_Cover-Web-scaled-1.jpg
END:VEVENT
BEGIN:VEVENT
DTSTART;TZID=America/Chicago:20241017T183000
DTEND;TZID=America/Chicago:20241017T223000
DTSTAMP:20260424T105233
CREATED:20241011T170450Z
LAST-MODIFIED:20241011T170450Z
UID:5158-1729189800-1729204200@scottyartz.com
SUMMARY:Nostalgia Show: Anime!
DESCRIPTION:Join us for The Nostalgia Show\, a gallery showcase where artists reimagine their favorite childhood cartoons and anime characters! This year\, we’re celebrating the release of the One Piece live-action series with an Anime-themed exhibition. Whether you’re a fan of Naruto\, Legend of Korra\, or any iconic anime\, this show will take you on a nostalgic journey through art. \nCome celebrate creativity and anime culture with a gallery full of art that transports you back to your favorite shows!
URL:https://scottyartz.com/event/nostalgia-show-anime/
LOCATION:Chicago Art Department\, 1926 South Halsted Street\, Chicago\, IL\, 60608\, United States
ATTACH;FMTTYPE=image/png:https://scottyartz.com/wp-content/uploads/2024/10/Screenshot_49.png
END:VEVENT
BEGIN:VEVENT
DTSTART;TZID=America/Chicago:20240830T110000
DTEND;TZID=America/Chicago:20240901T120000
DTSTAMP:20260424T105233
CREATED:20240720T005631Z
LAST-MODIFIED:20240723T014004Z
UID:4421-1725015600-1725192000@scottyartz.com
SUMMARY:Anime Magic!
DESCRIPTION:More information coming soon!
URL:https://scottyartz.com/event/anime-magic/
LOCATION:HYATT REGENCY O’HARE & DONALD E STEPHENS CONVENTION CENTER\, Rosemont\, IL\, United States
ATTACH;FMTTYPE=image/png:https://scottyartz.com/wp-content/uploads/2024/07/Event_AnimeMagic.png
END:VEVENT
BEGIN:VEVENT
DTSTART;TZID=America/Chicago:20240802T160000
DTEND;TZID=America/Chicago:20240804T170000
DTSTAMP:20260424T105233
CREATED:20240720T005147Z
LAST-MODIFIED:20240723T013154Z
UID:4418-1722614400-1722790800@scottyartz.com
SUMMARY:Otakon 2024
DESCRIPTION:Currently only attending. More information coming soon!
URL:https://scottyartz.com/event/otakon-2024/
LOCATION:Walter E. Washington Convention Center\, Washington DC\, MD\, United States
ATTACH;FMTTYPE=image/png:https://scottyartz.com/wp-content/uploads/2024/07/Event_Otakon.png
END:VEVENT
END:VCALENDAR